BEGIN:VCALENDAR
VERSION:2.0
PRODID:-//Department Of Education//c05e7e68-d112-4743-9280-dd16ad378f4a
BEGIN:VTIMEZONE
TZID:Australia/Sydney
TZURL:http://tzurl.org/zoneinfo-outlook/Australia/Sydney
X-LIC-LOCATION:Australia/Sydney
BEGIN:STANDARD
TZOFFSETFROM:+1100
TZOFFSETTO:+1000
TZNAME:AEST
DTSTART:19700405T030000
RRULE:FREQ=YEARLY;BYMONTH=4;BYDAY=1SU
END:STANDARD
BEGIN:DAYLIGHT
TZOFFSETFROM:+1000
TZOFFSETTO:+1100
TZNAME:AEDT
DTSTART:19701004T020000
RRULE:FREQ=YEARLY;BYMONTH=10;BYDAY=1SU
END:DAYLIGHT
END:VTIMEZONE
CALSCALE:GREGORIAN
X-WR-TIMEZONE:Australia/Sydney
BEGIN:VEVENT
DTSTART;VALUE=DATE:20210401
DTEND;VALUE=DATE:20210420
DTSTAMP:20210401T000000Z
UID:31d14823-8c14-4d6b-b296-1092d6954c5b
LOCATION:Beauty Point
SUMMARY;LANGUAGE=en-us:Term 1 Holidays
SEQUENCE:0
DESCRIPTION:Thursday 1 April - last day of Term 1 Friday 2 April - Monday 5 April - Easter Monday 5 April - Monday 19 April - Autum vacation Monday 19 April - Pupil-free Day Tuesday 20 April - ALL Students return to school
END:VEVENT
TRANSP:TRANSPARENT
END:VCALENDAR
