BEGIN:VCALENDAR
VERSION:2.0
PRODID:-//Department Of Education//8e485916-4388-4124-a7e8-75a499b6173a
BEGIN:VTIMEZONE
TZID:Australia/Sydney
TZURL:http://tzurl.org/zoneinfo-outlook/Australia/Sydney
X-LIC-LOCATION:Australia/Sydney
BEGIN:STANDARD
TZOFFSETFROM:+1100
TZOFFSETTO:+1000
TZNAME:AEST
DTSTART:19700405T030000
RRULE:FREQ=YEARLY;BYMONTH=4;BYDAY=1SU
END:STANDARD
BEGIN:DAYLIGHT
TZOFFSETFROM:+1000
TZOFFSETTO:+1100
TZNAME:AEDT
DTSTART:19701004T020000
RRULE:FREQ=YEARLY;BYMONTH=10;BYDAY=1SU
END:DAYLIGHT
END:VTIMEZONE
CALSCALE:GREGORIAN
X-WR-TIMEZONE:Australia/Sydney
BEGIN:VEVENT
DTSTART;VALUE=DATE:20210625
DTEND;VALUE=DATE:20210713
DTSTAMP:20210625T000000Z
UID:cc072029-6f39-4383-9645-8ac62f168b93
LOCATION:Beauty Point
SUMMARY;LANGUAGE=en-us:Term 2 Holidays
SEQUENCE:0
DESCRIPTION:Friday 25 June - last day of Term Monday 28 June to Friday 9 July - Winter vacation Monday 12 July - Pupil-free day Tuesday 13 July - ALL students return to school
END:VEVENT
TRANSP:TRANSPARENT
END:VCALENDAR
