BEGIN:VCALENDAR
VERSION:2.0
PRODID:-//Department Of Education//5ab22317-a7d6-4320-bc6f-5e48559cc365
BEGIN:VTIMEZONE
TZID:Australia/Sydney
TZURL:http://tzurl.org/zoneinfo-outlook/Australia/Sydney
X-LIC-LOCATION:Australia/Sydney
BEGIN:STANDARD
TZOFFSETFROM:+1100
TZOFFSETTO:+1000
TZNAME:AEST
DTSTART:19700405T030000
RRULE:FREQ=YEARLY;BYMONTH=4;BYDAY=1SU
END:STANDARD
BEGIN:DAYLIGHT
TZOFFSETFROM:+1000
TZOFFSETTO:+1100
TZNAME:AEDT
DTSTART:19701004T020000
RRULE:FREQ=YEARLY;BYMONTH=10;BYDAY=1SU
END:DAYLIGHT
END:VTIMEZONE
CALSCALE:GREGORIAN
X-WR-TIMEZONE:Australia/Sydney
BEGIN:VEVENT
DTSTART;VALUE=DATE:20210917
DTEND;VALUE=DATE:20211005
DTSTAMP:20210917T000000Z
UID:5a20d0fe-ccda-4d0e-aea4-70960bb57985
LOCATION:Beauty Point
SUMMARY;LANGUAGE=en-us:Term 3 Holidays
SEQUENCE:0
DESCRIPTION:Friday 17 September - last day of term Monday 20 September - Friday 1 October - Spring vacation Monday 4 October - Labour Day Public Holiday Tuesday 5 October - ALL students return to school
END:VEVENT
TRANSP:TRANSPARENT
END:VCALENDAR
